BEGIN:VCALENDAR
VERSION:2.0
PRODID:-//Offizielle Webseite des Musikverein Feuerwehrkapelle 1875 Nußloch e.V. - ECPv6.15.16//NONSGML v1.0//EN
CALSCALE:GREGORIAN
METHOD:PUBLISH
X-WR-CALNAME:Offizielle Webseite des Musikverein Feuerwehrkapelle 1875 Nußloch e.V.
X-ORIGINAL-URL:https://musikverein-nussloch.de
X-WR-CALDESC:Veranstaltungen für Offizielle Webseite des Musikverein Feuerwehrkapelle 1875 Nußloch e.V.
REFRESH-INTERVAL;VALUE=DURATION:PT1H
X-Robots-Tag:noindex
X-PUBLISHED-TTL:PT1H
BEGIN:VTIMEZONE
TZID:UTC
BEGIN:STANDARD
TZOFFSETFROM:+0000
TZOFFSETTO:+0000
TZNAME:UTC
DTSTART:20250101T000000
END:STANDARD
END:VTIMEZONE
BEGIN:VEVENT
DTSTART;TZID=UTC:20260419T111500
DTEND;TZID=UTC:20260419T131500
DTSTAMP:20260419T121535
CREATED:20260330T122224Z
LAST-MODIFIED:20260330T132816Z
UID:1546-1776597300-1776604500@musikverein-nussloch.de
SUMMARY:Auftritt Gesamtkapelle: Brunnenfest Nußloch
DESCRIPTION:Auftritt Gesamtkapelle \nBeginn: 11:15 Uhr \nOrt: Lindenplatz
URL:https://musikverein-nussloch.de/event/brunnenfest-nussloch
LOCATION:Lindenplatz Nußloch\, Sinsheimer Straße\, Nußloch\, Baden-Württemberg\, 69226\, Germany
CATEGORIES:Externe Veranstaltung
ORGANIZER;CN="Verbund Nu%C3%9Flocher Selbstst%C3%A4ndige":MAILTO:info@vns-nussloch.de
END:VEVENT
BEGIN:VEVENT
DTSTART;TZID=UTC:20260419T160000
DTEND;TZID=UTC:20260419T190000
DTSTAMP:20260419T121535
CREATED:20260330T122749Z
LAST-MODIFIED:20260330T132931Z
UID:1550-1776614400-1776625200@musikverein-nussloch.de
SUMMARY:Auftritt Jugend: Frühlingskonzert MV Sandhausen
DESCRIPTION:Auftritt Jugendkapelle \nBeginn: 16:00 Uhr \nOrt: Katholische Kirche Sandhausen \nweitere Infos unter https://www.musikverein-sandhausen.de/
URL:https://musikverein-nussloch.de/event/fruehlingskonzert-mv-sandhausen
LOCATION:Katholische Kirche Sandhausen\, Mayerstraße 40\, Sandhausen\, Baden-Württemberg\, 69207\, Germany
END:VEVENT
END:VCALENDAR