BEGIN:VCALENDAR
VERSION:2.0
PRODID:-//Offizielle Webseite des Musikverein Feuerwehrkapelle 1875 Nußloch e.V. - ECPv6.15.16//NONSGML v1.0//EN
CALSCALE:GREGORIAN
METHOD:PUBLISH
X-WR-CALNAME:Offizielle Webseite des Musikverein Feuerwehrkapelle 1875 Nußloch e.V.
X-ORIGINAL-URL:https://musikverein-nussloch.de
X-WR-CALDESC:Veranstaltungen für Offizielle Webseite des Musikverein Feuerwehrkapelle 1875 Nußloch e.V.
REFRESH-INTERVAL;VALUE=DURATION:PT1H
X-Robots-Tag:noindex
X-PUBLISHED-TTL:PT1H
BEGIN:VTIMEZONE
TZID:UTC
BEGIN:STANDARD
TZOFFSETFROM:+0000
TZOFFSETTO:+0000
TZNAME:UTC
DTSTART:20250101T000000
END:STANDARD
END:VTIMEZONE
BEGIN:VEVENT
DTSTART;TZID=UTC:20260712T153000
DTEND;TZID=UTC:20260712T173000
DTSTAMP:20260422T203035
CREATED:20260330T123129Z
LAST-MODIFIED:20260330T132905Z
UID:1556-1783870200-1783877400@musikverein-nussloch.de
SUMMARY:Auftritt Gesamtkapelle: Musikfest Leimen
DESCRIPTION:Auftritt Gesamtkapelle \nBeginn: 15:30 Uhr \nOrt: Feuerwehrhaus Leimen
URL:https://musikverein-nussloch.de/event/musikfest-leimen
LOCATION:Feuerwehrhaus Leimen\, Wilhelm-Haug-Straße 29-31\, Leimen\, Baden-Württemberg\, 69181\, Deutschland
CATEGORIES:Externe Veranstaltung
END:VEVENT
END:VCALENDAR