BEGIN:VCALENDAR
VERSION:2.0
PRODID:-//Offizielle Webseite des Musikverein Feuerwehrkapelle 1875 Nußloch e.V. - ECPv6.15.16//NONSGML v1.0//EN
CALSCALE:GREGORIAN
METHOD:PUBLISH
X-WR-CALNAME:Offizielle Webseite des Musikverein Feuerwehrkapelle 1875 Nußloch e.V.
X-ORIGINAL-URL:https://musikverein-nussloch.de
X-WR-CALDESC:Veranstaltungen für Offizielle Webseite des Musikverein Feuerwehrkapelle 1875 Nußloch e.V.
REFRESH-INTERVAL;VALUE=DURATION:PT1H
X-Robots-Tag:noindex
X-PUBLISHED-TTL:PT1H
BEGIN:VTIMEZONE
TZID:UTC
BEGIN:STANDARD
TZOFFSETFROM:+0000
TZOFFSETTO:+0000
TZNAME:UTC
DTSTART:20250101T000000
END:STANDARD
END:VTIMEZONE
BEGIN:VEVENT
DTSTART;VALUE=DATE:20260501
DTEND;VALUE=DATE:20260502
DTSTAMP:20260422T090109
CREATED:20251111T083037Z
LAST-MODIFIED:20251111T083037Z
UID:1455-1777593600-1777679999@musikverein-nussloch.de
SUMMARY:Weizenbierfest
DESCRIPTION:Details folgen
URL:https://musikverein-nussloch.de/event/weizenbierfest-2
LOCATION:Festhalle Nußloch\, Schillerstraße 14\, Nußloch\, Baden-Württemberg\, 69226\, Deutschland
CATEGORIES:MV-Veranstaltung
ORGANIZER;CN="Musikverein Feuerwehrkapelle 1875 Nu%C3%9Floch e.V.":MAILTO:kontakt@musikverein-nussloch.de
END:VEVENT
BEGIN:VEVENT
DTSTART;TZID=UTC:20260514T113000
DTEND;TZID=UTC:20260514T133000
DTSTAMP:20260422T090109
CREATED:20251111T083142Z
LAST-MODIFIED:20260330T122935Z
UID:1457-1778758200-1778765400@musikverein-nussloch.de
SUMMARY:Auftritt Gesamtkapelle: Vatertagsfest PeB Nußloch
DESCRIPTION:Auftritt Gesamtkapelle \nBeginn: 11:30 Uhr \nOrt: Schulhof Schillerschule Nußloch
URL:https://musikverein-nussloch.de/event/auftritt-gesamtkapelle-vatertagsfest-peb-nussloch-2
LOCATION:Festhalle Nußloch\, Schillerstraße 14\, Nußloch\, Baden-Württemberg\, 69226\, Deutschland
END:VEVENT
BEGIN:VEVENT
DTSTART;TZID=UTC:20260607T170000
DTEND;TZID=UTC:20260607T200000
DTSTAMP:20260422T090109
CREATED:20260330T122415Z
LAST-MODIFIED:20260330T122415Z
UID:1548-1780851600-1780862400@musikverein-nussloch.de
SUMMARY:Sommerserenade
DESCRIPTION:Auftritt Gesamtkapelle & Jugend \nBeginn: 17 Uhr \nOrt: Schulhof Schillerschule/Festhalle Nußloch
URL:https://musikverein-nussloch.de/event/sommerserenade-2
LOCATION:Festhalle Nußloch\, Schillerstraße 14\, Nußloch\, Baden-Württemberg\, 69226\, Deutschland
CATEGORIES:MV-Veranstaltung
ORGANIZER;CN="Musikverein Feuerwehrkapelle 1875 Nu%C3%9Floch e.V.":MAILTO:kontakt@musikverein-nussloch.de
END:VEVENT
BEGIN:VEVENT
DTSTART;TZID=UTC:20260712T153000
DTEND;TZID=UTC:20260712T173000
DTSTAMP:20260422T090109
CREATED:20260330T123129Z
LAST-MODIFIED:20260330T132905Z
UID:1556-1783870200-1783877400@musikverein-nussloch.de
SUMMARY:Auftritt Gesamtkapelle: Musikfest Leimen
DESCRIPTION:Auftritt Gesamtkapelle \nBeginn: 15:30 Uhr \nOrt: Feuerwehrhaus Leimen
URL:https://musikverein-nussloch.de/event/musikfest-leimen
LOCATION:Feuerwehrhaus Leimen\, Wilhelm-Haug-Straße 29-31\, Leimen\, Baden-Württemberg\, 69181\, Deutschland
CATEGORIES:Externe Veranstaltung
END:VEVENT
BEGIN:VEVENT
DTSTART;TZID=UTC:20260726T123000
DTEND;TZID=UTC:20260726T143000
DTSTAMP:20260422T090109
CREATED:20260330T131849Z
LAST-MODIFIED:20260330T132840Z
UID:1558-1785069000-1785076200@musikverein-nussloch.de
SUMMARY:Auftritt Gesamtkapelle: Waldfest Sandhausen
DESCRIPTION:Auftritt Gesamtkapelle \nBeginn: 12:30 Uhr \nOrt: Waldfestplatz Sandhausen
URL:https://musikverein-nussloch.de/event/waldfest-sandhausen-3
LOCATION:Waldfestplatz Sandhausen\, Bahnhofstraße 10\, Sandhausen\, Baden-Württemberg\, 69207\, Deutschland
CATEGORIES:Externe Veranstaltung
END:VEVENT
BEGIN:VEVENT
DTSTART;TZID=UTC:20260731T020000
DTEND;TZID=UTC:20260731T050000
DTSTAMP:20260422T090109
CREATED:20260330T132417Z
LAST-MODIFIED:20260330T132417Z
UID:1565-1785463200-1785474000@musikverein-nussloch.de
SUMMARY:Ferienprogramm
DESCRIPTION:Anmeldung über Gemeinde Nußloch
URL:https://musikverein-nussloch.de/event/ferienprogramm-2
LOCATION:Feuerwehrhaus Nußloch\, Carl-Metz-Straße 2\, Nußloch\, Baden-Württemberg\, 69226\, Deutschland
CATEGORIES:Externe Veranstaltung,MV-Veranstaltung
ORGANIZER;CN="Gemeinde Nu%C3%9Floch":MAILTO:info@nussloch.de
END:VEVENT
BEGIN:VEVENT
DTSTART;TZID=UTC:20260731T070000
DTEND;TZID=UTC:20260731T233000
DTSTAMP:20260422T090109
CREATED:20260330T132519Z
LAST-MODIFIED:20260330T132519Z
UID:1567-1785481200-1785540600@musikverein-nussloch.de
SUMMARY:Mitglieder Grillfest
DESCRIPTION:INTERNE VERANSTALTUNG \nweitere Informationen und Anmeldung per Newsletter
URL:https://musikverein-nussloch.de/event/mitglieder-grillfest
LOCATION:Feuerwehrhaus Nußloch\, Carl-Metz-Straße 2\, Nußloch\, Baden-Württemberg\, 69226\, Deutschland
CATEGORIES:MV-Veranstaltung
ORGANIZER;CN="Musikverein Feuerwehrkapelle 1875 Nu%C3%9Floch e.V.":MAILTO:kontakt@musikverein-nussloch.de
END:VEVENT
BEGIN:VEVENT
DTSTART;TZID=UTC:20261002T080000
DTEND;TZID=UTC:20261004T140000
DTSTAMP:20260422T090109
CREATED:20251111T083616Z
LAST-MODIFIED:20251111T083616Z
UID:1465-1790928000-1791122400@musikverein-nussloch.de
SUMMARY:Probewochenende zum Jahreskonzert
DESCRIPTION:Interne Vereinsveranstaltung
URL:https://musikverein-nussloch.de/event/probewochenende-zum-jahreskonzert
LOCATION:Feuerwehrhaus Nußloch\, Carl-Metz-Straße 2\, Nußloch\, Baden-Württemberg\, 69226\, Deutschland
CATEGORIES:MV-Veranstaltung
ORGANIZER;CN="Musikverein Feuerwehrkapelle 1875 Nu%C3%9Floch e.V.":MAILTO:kontakt@musikverein-nussloch.de
END:VEVENT
BEGIN:VEVENT
DTSTART;TZID=UTC:20261017T190000
DTEND;TZID=UTC:20261018T180000
DTSTAMP:20260422T090109
CREATED:20260330T132203Z
LAST-MODIFIED:20260330T132203Z
UID:1560-1792263600-1792346400@musikverein-nussloch.de
SUMMARY:Oktoberfest
DESCRIPTION:Oktoberfest des MV Feuerwehrkapelle Nußloch \nvon Samstag\, 17.10. bis Sonntag\, 18.10.2026 in der Festhalle Nußloch \nSamstag: Partyabend \nSonntag: Blasmusiktag \nweitere Infos folgen
URL:https://musikverein-nussloch.de/event/oktoberfest
LOCATION:Festhalle Nußloch\, Schillerstraße 14\, Nußloch\, Baden-Württemberg\, 69226\, Deutschland
CATEGORIES:MV-Veranstaltung
ORGANIZER;CN="Musikverein Feuerwehrkapelle 1875 Nu%C3%9Floch e.V.":MAILTO:kontakt@musikverein-nussloch.de
END:VEVENT
BEGIN:VEVENT
DTSTART;TZID=UTC:20261111T180000
DTEND;TZID=UTC:20261111T190000
DTSTAMP:20260422T090109
CREATED:20251111T083347Z
LAST-MODIFIED:20251111T083347Z
UID:1459-1794420000-1794423600@musikverein-nussloch.de
SUMMARY:Martinsumzug Nußloch
DESCRIPTION:Startaufstellung: Dreikönigstraße an der Schillerschule \nüber Dreikönigsstraße -> Goethestraße -> Burgstraße -> Gartenstraße -> Sinsheimer Straße -> Werderstraße \nEnde: Schulhof Schillerschule Nußloch \nMartinsgeschichte am Rathaus
URL:https://musikverein-nussloch.de/event/martinsumzug-nussloch-2
LOCATION:Nußloch
CATEGORIES:Externe Veranstaltung
END:VEVENT
BEGIN:VEVENT
DTSTART;VALUE=DATE:20261115
DTEND;VALUE=DATE:20261116
DTSTAMP:20260422T090109
CREATED:20251111T083435Z
LAST-MODIFIED:20260330T132725Z
UID:1461-1794700800-1794787199@musikverein-nussloch.de
SUMMARY:Jahreskonzert 2026
DESCRIPTION:Beginn: 17:00 Uhr \nOrt: Festhalle Nußloch
URL:https://musikverein-nussloch.de/event/jahreskonzert-2026
LOCATION:Festhalle Nußloch\, Schillerstraße 14\, Nußloch\, Baden-Württemberg\, 69226\, Deutschland
CATEGORIES:MV-Veranstaltung
ORGANIZER;CN="Musikverein Feuerwehrkapelle 1875 Nu%C3%9Floch e.V.":MAILTO:kontakt@musikverein-nussloch.de
END:VEVENT
BEGIN:VEVENT
DTSTART;TZID=UTC:20261115T111500
DTEND;TZID=UTC:20261115T120000
DTSTAMP:20260422T090109
CREATED:20251111T083945Z
LAST-MODIFIED:20251111T083945Z
UID:1470-1794741300-1794744000@musikverein-nussloch.de
SUMMARY:Auftritt Gesamtkapelle: Volkstrauertag\, Gemeinde Nußloch
DESCRIPTION:Details folgen
URL:https://musikverein-nussloch.de/event/auftritt-gesamtkapelle-volkstrauertag-gemeinde-nussloch-2
LOCATION:Friedhof Nußloch\, Burgstraße 10\, Nußloch\, Baden-Württemberg\, 69226\, Deutschland
CATEGORIES:Externe Veranstaltung
ORGANIZER;CN="Gemeinde Nu%C3%9Floch":MAILTO:info@nussloch.de
END:VEVENT
BEGIN:VEVENT
DTSTART;TZID=UTC:20261224T170000
DTEND;TZID=UTC:20261224T180000
DTSTAMP:20260422T090109
CREATED:20251111T083814Z
LAST-MODIFIED:20251111T083814Z
UID:1467-1798131600-1798135200@musikverein-nussloch.de
SUMMARY:Weihnachtliches Musizieren
DESCRIPTION:Gemeinschaftsauftritt mit MGV 1867 Nussloch Männer- und Frauenchor e.V.
URL:https://musikverein-nussloch.de/event/weihnachtliches-musizieren-3
LOCATION:Friedhof Nußloch\, Burgstraße 10\, Nußloch\, Baden-Württemberg\, 69226\, Deutschland
CATEGORIES:MV-Veranstaltung
ORGANIZER;CN="Musikverein Feuerwehrkapelle 1875 Nu%C3%9Floch e.V.":MAILTO:kontakt@musikverein-nussloch.de
END:VEVENT
END:VCALENDAR