BEGIN:VCALENDAR
VERSION:2.0
PRODID:-//Offizielle Webseite des Musikverein Feuerwehrkapelle 1875 Nußloch e.V. - ECPv6.15.16//NONSGML v1.0//EN
CALSCALE:GREGORIAN
METHOD:PUBLISH
X-WR-CALNAME:Offizielle Webseite des Musikverein Feuerwehrkapelle 1875 Nußloch e.V.
X-ORIGINAL-URL:https://musikverein-nussloch.de
X-WR-CALDESC:Veranstaltungen für Offizielle Webseite des Musikverein Feuerwehrkapelle 1875 Nußloch e.V.
REFRESH-INTERVAL;VALUE=DURATION:PT1H
X-Robots-Tag:noindex
X-PUBLISHED-TTL:PT1H
BEGIN:VTIMEZONE
TZID:UTC
BEGIN:STANDARD
TZOFFSETFROM:+0000
TZOFFSETTO:+0000
TZNAME:UTC
DTSTART:20240101T000000
END:STANDARD
END:VTIMEZONE
BEGIN:VEVENT
DTSTART;VALUE=DATE:20250801
DTEND;VALUE=DATE:20250905
DTSTAMP:20260422T220040
CREATED:20250526T143219Z
LAST-MODIFIED:20250526T143219Z
UID:1195-1754006400-1757030399@musikverein-nussloch.de
SUMMARY:Sommerpause Probetage
DESCRIPTION:
URL:https://musikverein-nussloch.de/event/sommerpause-probetage
LOCATION:Baden-Württemberg
END:VEVENT
BEGIN:VEVENT
DTSTART;TZID=UTC:20250905T200000
DTEND;TZID=UTC:20250905T220000
DTSTAMP:20260422T220040
CREATED:20250526T143258Z
LAST-MODIFIED:20250526T143258Z
UID:1197-1757102400-1757109600@musikverein-nussloch.de
SUMMARY:Erste Probe Gesamtkapelle
DESCRIPTION:
URL:https://musikverein-nussloch.de/event/erste-probe-gesamtkapelle-2
LOCATION:Feuerwehrhaus Nußloch\, Carl-Metz-Straße 2\, Nußloch\, Baden-Württemberg\, 69226\, Deutschland
ORGANIZER;CN="Musikverein Feuerwehrkapelle 1875 Nu%C3%9Floch e.V.":MAILTO:kontakt@musikverein-nussloch.de
END:VEVENT
BEGIN:VEVENT
DTSTART;TZID=UTC:20250912T183000
DTEND;TZID=UTC:20250912T193000
DTSTAMP:20260422T220040
CREATED:20250526T143340Z
LAST-MODIFIED:20250526T143340Z
UID:1199-1757701800-1757705400@musikverein-nussloch.de
SUMMARY:Erste Probe Jugend
DESCRIPTION:
URL:https://musikverein-nussloch.de/event/erste-probe-jugend
LOCATION:Feuerwehrhaus Nußloch\, Carl-Metz-Straße 2\, Nußloch\, Baden-Württemberg\, 69226\, Deutschland
ORGANIZER;CN="Musikverein Feuerwehrkapelle 1875 Nu%C3%9Floch e.V.":MAILTO:kontakt@musikverein-nussloch.de
END:VEVENT
END:VCALENDAR