BEGIN:VCALENDAR
VERSION:2.0
PRODID:-//Offizielle Webseite des Musikverein Feuerwehrkapelle 1875 Nußloch e.V. - ECPv6.15.16//NONSGML v1.0//EN
CALSCALE:GREGORIAN
METHOD:PUBLISH
X-WR-CALNAME:Offizielle Webseite des Musikverein Feuerwehrkapelle 1875 Nußloch e.V.
X-ORIGINAL-URL:https://musikverein-nussloch.de
X-WR-CALDESC:Veranstaltungen für Offizielle Webseite des Musikverein Feuerwehrkapelle 1875 Nußloch e.V.
REFRESH-INTERVAL;VALUE=DURATION:PT1H
X-Robots-Tag:noindex
X-PUBLISHED-TTL:PT1H
BEGIN:VTIMEZONE
TZID:UTC
BEGIN:STANDARD
TZOFFSETFROM:+0000
TZOFFSETTO:+0000
TZNAME:UTC
DTSTART:20240101T000000
END:STANDARD
END:VTIMEZONE
BEGIN:VEVENT
DTSTART;TZID=UTC:20251002T203000
DTEND;TZID=UTC:20251002T223000
DTSTAMP:20260422T203216
CREATED:20250526T143435Z
LAST-MODIFIED:20250819T100531Z
UID:1201-1759437000-1759444200@musikverein-nussloch.de
SUMMARY:Benefizkonzert zum 150-jährigen Jubiläum
DESCRIPTION:Informationen zur Veranstaltung unter https://www.musikverein-nussloch.de/150jahre
URL:https://musikverein-nussloch.de/event/benefizkonzert-zum-150-jaehrigen-jubilaeum
LOCATION:Festhalle Nußloch\, Schillerstraße 14\, Nußloch\, Baden-Württemberg\, 69226\, Deutschland
ORGANIZER;CN="Musikverein Feuerwehrkapelle 1875 Nu%C3%9Floch e.V.":MAILTO:kontakt@musikverein-nussloch.de
END:VEVENT
BEGIN:VEVENT
DTSTART;TZID=UTC:20251017T180000
DTEND;TZID=UTC:20251019T200000
DTSTAMP:20260422T203216
CREATED:20250526T143515Z
LAST-MODIFIED:20250819T100625Z
UID:1203-1760724000-1760904000@musikverein-nussloch.de
SUMMARY:Festwochenende zum 150-jährigen Jubiläum
DESCRIPTION:Details und weitere Informationen unter https://www.musikverein-nussloch.de/150jahre
URL:https://musikverein-nussloch.de/event/festwochenende-zum-150-jaehrigen-jubilaeum
LOCATION:Festhalle Nußloch\, Schillerstraße 14\, Nußloch\, Baden-Württemberg\, 69226\, Deutschland
ORGANIZER;CN="Musikverein Feuerwehrkapelle 1875 Nu%C3%9Floch e.V.":MAILTO:kontakt@musikverein-nussloch.de
END:VEVENT
END:VCALENDAR