BEGIN:VCALENDAR
VERSION:2.0
PRODID:-//Offizielle Webseite des Musikverein Feuerwehrkapelle 1875 Nußloch e.V. - ECPv6.15.16//NONSGML v1.0//EN
CALSCALE:GREGORIAN
METHOD:PUBLISH
X-WR-CALNAME:Offizielle Webseite des Musikverein Feuerwehrkapelle 1875 Nußloch e.V.
X-ORIGINAL-URL:https://musikverein-nussloch.de
X-WR-CALDESC:Veranstaltungen für Offizielle Webseite des Musikverein Feuerwehrkapelle 1875 Nußloch e.V.
REFRESH-INTERVAL;VALUE=DURATION:PT1H
X-Robots-Tag:noindex
X-PUBLISHED-TTL:PT1H
BEGIN:VTIMEZONE
TZID:UTC
BEGIN:STANDARD
TZOFFSETFROM:+0000
TZOFFSETTO:+0000
TZNAME:UTC
DTSTART:20240101T000000
END:STANDARD
END:VTIMEZONE
BEGIN:VEVENT
DTSTART;VALUE=DATE:20251219
DTEND;VALUE=DATE:20260110
DTSTAMP:20260422T155339
CREATED:20251111T082639Z
LAST-MODIFIED:20251111T082652Z
UID:1448-1766102400-1768003199@musikverein-nussloch.de
SUMMARY:Letzte Probe 2025 und Weihnachtspause
DESCRIPTION:Weihnachtspause bis zum 09. Januar 2026
URL:https://musikverein-nussloch.de/event/letzte-probe-2025
LOCATION:Baden-Württemberg
END:VEVENT
BEGIN:VEVENT
DTSTART;TZID=UTC:20260109T200000
DTEND;TZID=UTC:20260109T220000
DTSTAMP:20260422T155339
CREATED:20251111T082731Z
LAST-MODIFIED:20251111T084018Z
UID:1451-1767988800-1767996000@musikverein-nussloch.de
SUMMARY:Erste Probe 2026
DESCRIPTION:
URL:https://musikverein-nussloch.de/event/erste-probe-2026
LOCATION:Festhalle Nußloch\, Schillerstraße 14\, Nußloch\, Baden-Württemberg\, 69226\, Deutschland
ORGANIZER;CN="Musikverein Feuerwehrkapelle 1875 Nu%C3%9Floch e.V.":MAILTO:kontakt@musikverein-nussloch.de
END:VEVENT
BEGIN:VEVENT
DTSTART;TZID=UTC:20260111T141100
DTEND;TZID=UTC:20260111T163000
DTSTAMP:20260422T155339
CREATED:20251023T084854Z
LAST-MODIFIED:20251023T084854Z
UID:1430-1768140660-1768149000@musikverein-nussloch.de
SUMMARY:Jubiläumsumzug Gajemänndl
DESCRIPTION:
URL:https://musikverein-nussloch.de/event/jubilaeumsumzug-gajemaenndl
LOCATION:Nußloch
CATEGORIES:Externe Veranstaltung
END:VEVENT
BEGIN:VEVENT
DTSTART;TZID=UTC:20260130T200000
DTEND;TZID=UTC:20260130T220000
DTSTAMP:20260422T155339
CREATED:20251023T084945Z
LAST-MODIFIED:20251023T084945Z
UID:1433-1769803200-1769810400@musikverein-nussloch.de
SUMMARY:Mitgliederversammlung
DESCRIPTION:
URL:https://musikverein-nussloch.de/event/mitgliederversammlung
LOCATION:Feuerwehrhaus Nußloch\, Carl-Metz-Straße 2\, Nußloch\, Baden-Württemberg\, 69226\, Deutschland
CATEGORIES:MV-Veranstaltung
ORGANIZER;CN="Musikverein Feuerwehrkapelle 1875 Nu%C3%9Floch e.V.":MAILTO:kontakt@musikverein-nussloch.de
END:VEVENT
END:VCALENDAR